BEGIN:VCALENDAR
VERSION:2.0
PRODID:-//Children&#039;s Safety Village - ECPv5.5.0.1//NONSGML v1.0//EN
CALSCALE:GREGORIAN
METHOD:PUBLISH
X-WR-CALNAME:Children&#039;s Safety Village
X-ORIGINAL-URL:https://childrensafetyvillage.org
X-WR-CALDESC:Events for Children&#039;s Safety Village
BEGIN:VTIMEZONE
TZID:UTC
BEGIN:STANDARD
TZOFFSETFROM:+0000
TZOFFSETTO:+0000
TZNAME:UTC
DTSTART:20250101T000000
END:STANDARD
END:VTIMEZONE
BEGIN:VEVENT
DTSTART;VALUE=DATE:20250609
DTEND;VALUE=DATE:20250614
DTSTAMP:20260420T004534
CREATED:20250519T143816Z
LAST-MODIFIED:20250519T160831Z
UID:6810-1749427200-1749859199@childrensafetyvillage.org
SUMMARY:HEROES Summer Camp $250 week #2
DESCRIPTION:Children’s Safety Village HEROES Summer Camp\n  $250 week #2\nClick here: 2025 CSV Heroes Summer Registration
URL:https://childrensafetyvillage.org/event/heroes-summer-camp-5/
END:VEVENT
END:VCALENDAR