BEGIN:VCALENDAR
VERSION:2.0
PRODID:-//Children&#039;s Safety Village - ECPv5.5.0.1//NONSGML v1.0//EN
CALSCALE:GREGORIAN
METHOD:PUBLISH
X-WR-CALNAME:Children&#039;s Safety Village
X-ORIGINAL-URL:https://childrensafetyvillage.org
X-WR-CALDESC:Events for Children&#039;s Safety Village
BEGIN:VTIMEZONE
TZID:UTC
BEGIN:STANDARD
TZOFFSETFROM:+0000
TZOFFSETTO:+0000
TZNAME:UTC
DTSTART:20240101T000000
END:STANDARD
END:VTIMEZONE
BEGIN:VEVENT
DTSTART;TZID=UTC:20240603T080000
DTEND;TZID=UTC:20240607T170000
DTSTAMP:20260420T184228
CREATED:20231230T011728Z
LAST-MODIFIED:20231230T011728Z
UID:6433-1717401600-1717779600@childrensafetyvillage.org
SUMMARY:CSV Heroes Summer Camp
DESCRIPTION:
URL:https://childrensafetyvillage.org/event/csv-heroes-summer-camp-2/
LOCATION:910 Fairvilla Rd\, Orlando\, FL 32808\, 910 Fairvilla Rd\, Orlando\, FL\, 32808\, United States
END:VEVENT
END:VCALENDAR