BEGIN:VCALENDAR
VERSION:2.0
PRODID:-//Children&#039;s Safety Village - ECPv5.5.0.1//NONSGML v1.0//EN
CALSCALE:GREGORIAN
METHOD:PUBLISH
X-WR-CALNAME:Children&#039;s Safety Village
X-ORIGINAL-URL:https://childrensafetyvillage.org
X-WR-CALDESC:Events for Children&#039;s Safety Village
BEGIN:VTIMEZONE
TZID:UTC
BEGIN:STANDARD
TZOFFSETFROM:+0000
TZOFFSETTO:+0000
TZNAME:UTC
DTSTART:20230101T000000
END:STANDARD
END:VTIMEZONE
BEGIN:VEVENT
DTSTART;TZID=UTC:20231021T110000
DTEND;TZID=UTC:20231021T140000
DTSTAMP:20260421T064817
CREATED:20230821T160012Z
LAST-MODIFIED:20231011T213630Z
UID:6339-1697886000-1697896800@childrensafetyvillage.org
SUMMARY:CSV 12th Annual Trunk-or-Treat   11:00 a.m. - 2:00 p.m.
DESCRIPTION:Werewolf Sponsor Level\n  \n  \nMummy Sponsor Level\n \n  \nPumpkin Sponsor Level\n       \n \n  \n  \nGoodie Bag Items courtesy of Gilchrist Enterprises (McDonalds) and CareSource\n   
URL:https://childrensafetyvillage.org/event/csv-12th-annual-trunk-or-treat/
LOCATION:910 Fairvilla Rd\, Orlando\, FL 32808\, 910 Fairvilla Rd\, Orlando\, FL\, 32808\, United States
END:VEVENT
END:VCALENDAR