BEGIN:VCALENDAR
VERSION:2.0
PRODID:-//Children&#039;s Safety Village - ECPv5.5.0.1//NONSGML v1.0//EN
CALSCALE:GREGORIAN
METHOD:PUBLISH
X-WR-CALNAME:Children&#039;s Safety Village
X-ORIGINAL-URL:https://childrensafetyvillage.org
X-WR-CALDESC:Events for Children&#039;s Safety Village
BEGIN:VTIMEZONE
TZID:UTC
BEGIN:STANDARD
TZOFFSETFROM:+0000
TZOFFSETTO:+0000
TZNAME:UTC
DTSTART:20230101T000000
END:STANDARD
END:VTIMEZONE
BEGIN:VEVENT
DTSTART;TZID=UTC:20230422T090000
DTEND;TZID=UTC:20230422T120000
DTSTAMP:20260421T154842
CREATED:20230207T200006Z
LAST-MODIFIED:20230207T200006Z
UID:6218-1682154000-1682164800@childrensafetyvillage.org
SUMMARY:Future Hero Fun Run/National Safe Kids Day
DESCRIPTION:
URL:https://childrensafetyvillage.org/event/future-hero-fun-run-national-safe-kids-day-2/
LOCATION:910 Fairvilla Rd\, Orlando\, FL 32808\, 910 Fairvilla Rd\, Orlando\, FL\, 32808\, United States
END:VEVENT
END:VCALENDAR