BEGIN:VCALENDAR
VERSION:2.0
PRODID:-//Children&#039;s Safety Village - ECPv5.5.0.1//NONSGML v1.0//EN
CALSCALE:GREGORIAN
METHOD:PUBLISH
X-WR-CALNAME:Children&#039;s Safety Village
X-ORIGINAL-URL:https://childrensafetyvillage.org
X-WR-CALDESC:Events for Children&#039;s Safety Village
BEGIN:VTIMEZONE
TZID:UTC
BEGIN:STANDARD
TZOFFSETFROM:+0000
TZOFFSETTO:+0000
TZNAME:UTC
DTSTART:20220101T000000
END:STANDARD
END:VTIMEZONE
BEGIN:VEVENT
DTSTART;TZID=UTC:20220513T080000
DTEND;TZID=UTC:20220513T140000
DTSTAMP:20260422T094440
CREATED:20220214T193912Z
LAST-MODIFIED:20220411T142047Z
UID:6062-1652428800-1652450400@childrensafetyvillage.org
SUMMARY:5th Annual Charity Golf Tournament
DESCRIPTION:Bronze Level Sponsor: \n \n 
URL:https://childrensafetyvillage.org/event/5th-annual-charity-golf-tournament/
LOCATION:Dubsdread Golf Course
END:VEVENT
END:VCALENDAR