BEGIN:VCALENDAR
VERSION:2.0
PRODID:-//Children&#039;s Safety Village - ECPv5.5.0.1//NONSGML v1.0//EN
CALSCALE:GREGORIAN
METHOD:PUBLISH
X-WR-CALNAME:Children&#039;s Safety Village
X-ORIGINAL-URL:https://childrensafetyvillage.org
X-WR-CALDESC:Events for Children&#039;s Safety Village
BEGIN:VTIMEZONE
TZID:UTC
BEGIN:STANDARD
TZOFFSETFROM:+0000
TZOFFSETTO:+0000
TZNAME:UTC
DTSTART:20220101T000000
END:STANDARD
END:VTIMEZONE
BEGIN:VEVENT
DTSTART;TZID=UTC:20220324T113000
DTEND;TZID=UTC:20220324T133000
DTSTAMP:20260422T125500
CREATED:20220214T191824Z
LAST-MODIFIED:20220214T191824Z
UID:6059-1648121400-1648128600@childrensafetyvillage.org
SUMMARY:5th Annual Community Heroes Celebration
DESCRIPTION:
URL:https://childrensafetyvillage.org/event/5th-annual-community-heroes-celebration/
LOCATION:Mango’s Tropical Cafe\, 8126 International Dr\, Orlando\, Florida\, 32819\, United States
END:VEVENT
END:VCALENDAR