BEGIN:VCALENDAR
VERSION:2.0
PRODID:-//Children&#039;s Safety Village - ECPv5.5.0.1//NONSGML v1.0//EN
CALSCALE:GREGORIAN
METHOD:PUBLISH
X-WR-CALNAME:Children&#039;s Safety Village
X-ORIGINAL-URL:https://childrensafetyvillage.org
X-WR-CALDESC:Events for Children&#039;s Safety Village
BEGIN:VTIMEZONE
TZID:UTC
BEGIN:STANDARD
TZOFFSETFROM:+0000
TZOFFSETTO:+0000
TZNAME:UTC
DTSTART:20250101T000000
END:STANDARD
END:VTIMEZONE
BEGIN:VEVENT
DTSTART;TZID=UTC:20250802T090000
DTEND;TZID=UTC:20250802T130000
DTSTAMP:20260419T213741
CREATED:20250623T140724Z
LAST-MODIFIED:20250721T184454Z
UID:6856-1754125200-1754139600@childrensafetyvillage.org
SUMMARY:READY\, SET\, LEARN! Back-to-School           HEALTH FAIR
DESCRIPTION:
URL:https://childrensafetyvillage.org/event/ready-set-learn-back-to-school-health-fair/
END:VEVENT
END:VCALENDAR