BEGIN:VCALENDAR
VERSION:2.0
PRODID:-//Children&#039;s Safety Village - ECPv5.5.0.1//NONSGML v1.0//EN
CALSCALE:GREGORIAN
METHOD:PUBLISH
X-WR-CALNAME:Children&#039;s Safety Village
X-ORIGINAL-URL:https://childrensafetyvillage.org
X-WR-CALDESC:Events for Children&#039;s Safety Village
BEGIN:VTIMEZONE
TZID:UTC
BEGIN:STANDARD
TZOFFSETFROM:+0000
TZOFFSETTO:+0000
TZNAME:UTC
DTSTART:20250101T000000
END:STANDARD
END:VTIMEZONE
BEGIN:VEVENT
DTSTART;TZID=UTC:20250723T140000
DTEND;TZID=UTC:20250723T160000
DTSTAMP:20260419T231041
CREATED:20250721T192505Z
LAST-MODIFIED:20250721T192505Z
UID:6881-1753279200-1753286400@childrensafetyvillage.org
SUMMARY:Orange County Drowning Prevention Action Planning Roundtable
DESCRIPTION:
URL:https://childrensafetyvillage.org/event/orange-county-drowning-prevention-action-planning-roundtable/
LOCATION:910 Fairvilla Rd\, Orlando\, FL 32808\, 910 Fairvilla Rd\, Orlando\, FL\, 32808\, United States
END:VEVENT
END:VCALENDAR