BEGIN:VCALENDAR
VERSION:2.0
PRODID:-//Children&#039;s Safety Village - ECPv5.5.0.1//NONSGML v1.0//EN
CALSCALE:GREGORIAN
METHOD:PUBLISH
X-WR-CALNAME:Children&#039;s Safety Village
X-ORIGINAL-URL:https://childrensafetyvillage.org
X-WR-CALDESC:Events for Children&#039;s Safety Village
BEGIN:VTIMEZONE
TZID:UTC
BEGIN:STANDARD
TZOFFSETFROM:+0000
TZOFFSETTO:+0000
TZNAME:UTC
DTSTART:20210101T000000
END:STANDARD
END:VTIMEZONE
BEGIN:VEVENT
DTSTART;TZID=UTC:20211105T083000
DTEND;TZID=UTC:20211105T130000
DTSTAMP:20260422T185848
CREATED:20211025T171324Z
LAST-MODIFIED:20211025T171324Z
UID:6040-1636101000-1636117200@childrensafetyvillage.org
SUMMARY:OCSO Golf Tournament
DESCRIPTION:Charity Golf Tounament – Players Needed! \nhttps://www.eventbrite.com/e/ocso-united-way-golf-tournament-tickets-187864837787 \n 
URL:https://childrensafetyvillage.org/event/ocso-golf-tournament/
LOCATION:Celebration Golf Club
END:VEVENT
END:VCALENDAR