BEGIN:VCALENDAR
VERSION:2.0
PRODID:-//Children&#039;s Safety Village - ECPv5.5.0.1//NONSGML v1.0//EN
CALSCALE:GREGORIAN
METHOD:PUBLISH
X-WR-CALNAME:Children&#039;s Safety Village
X-ORIGINAL-URL:https://childrensafetyvillage.org
X-WR-CALDESC:Events for Children&#039;s Safety Village
BEGIN:VTIMEZONE
TZID:UTC
BEGIN:STANDARD
TZOFFSETFROM:+0000
TZOFFSETTO:+0000
TZNAME:UTC
DTSTART:20200101T000000
END:STANDARD
END:VTIMEZONE
BEGIN:VEVENT
DTSTART;TZID=UTC:20200907T080000
DTEND;TZID=UTC:20200907T170000
DTSTAMP:20260423T161556
CREATED:20200107T000037Z
LAST-MODIFIED:20200107T000037Z
UID:5350-1599465600-1599498000@childrensafetyvillage.org
SUMMARY:Labor Day - Closed
DESCRIPTION:
URL:https://childrensafetyvillage.org/event/labor-day-closed/
END:VEVENT
END:VCALENDAR