BEGIN:VCALENDAR
VERSION:2.0
PRODID:-//Children&#039;s Safety Village - ECPv5.5.0.1//NONSGML v1.0//EN
CALSCALE:GREGORIAN
METHOD:PUBLISH
X-WR-CALNAME:Children&#039;s Safety Village
X-ORIGINAL-URL:https://childrensafetyvillage.org
X-WR-CALDESC:Events for Children&#039;s Safety Village
BEGIN:VTIMEZONE
TZID:UTC
BEGIN:STANDARD
TZOFFSETFROM:+0000
TZOFFSETTO:+0000
TZNAME:UTC
DTSTART:20210101T000000
END:STANDARD
END:VTIMEZONE
BEGIN:VEVENT
DTSTART;TZID=UTC:20211023T110000
DTEND;TZID=UTC:20211023T140000
DTSTAMP:20260422T203541
CREATED:20211014T185149Z
LAST-MODIFIED:20211014T191501Z
UID:6027-1634986800-1634997600@childrensafetyvillage.org
SUMMARY:Children's Safety Village 10th Annual Trunk-or-Treat
DESCRIPTION:Sponsored by:
URL:https://childrensafetyvillage.org/event/childrens-safety-village-10th-annual-trunk-or-treat/
LOCATION:910 Fairvilla Rd\, Orlando\, FL 32808\, 910 Fairvilla Rd\, Orlando\, FL\, 32808\, United States
END:VEVENT
END:VCALENDAR