BEGIN:VCALENDAR
VERSION:2.0
PRODID:-//Children&#039;s Safety Village - ECPv5.5.0.1//NONSGML v1.0//EN
CALSCALE:GREGORIAN
METHOD:PUBLISH
X-WR-CALNAME:Children&#039;s Safety Village
X-ORIGINAL-URL:https://childrensafetyvillage.org
X-WR-CALDESC:Events for Children&#039;s Safety Village
BEGIN:VTIMEZONE
TZID:UTC
BEGIN:STANDARD
TZOFFSETFROM:+0000
TZOFFSETTO:+0000
TZNAME:UTC
DTSTART:20240101T000000
END:STANDARD
END:VTIMEZONE
BEGIN:VEVENT
DTSTART;TZID=UTC:20240301T080000
DTEND;TZID=UTC:20240301T143000
DTSTAMP:20260421T004712
CREATED:20231228T213518Z
LAST-MODIFIED:20240219T164738Z
UID:6411-1709280000-1709303400@childrensafetyvillage.org
SUMMARY:7th Annual CSV Golf Tournament
DESCRIPTION:Thanks to our Beverage Cart Sponsors:\n           \nThank you to our Corporate Sponsor:
URL:https://childrensafetyvillage.org/event/7th-annual-csv-golf-tournament/
LOCATION:Dubsdread Golf Course
END:VEVENT
END:VCALENDAR