BEGIN:VCALENDAR
VERSION:2.0
PRODID:-//Children&#039;s Safety Village - ECPv5.5.0.1//NONSGML v1.0//EN
CALSCALE:GREGORIAN
METHOD:PUBLISH
X-WR-CALNAME:Children&#039;s Safety Village
X-ORIGINAL-URL:https://childrensafetyvillage.org
X-WR-CALDESC:Events for Children&#039;s Safety Village
BEGIN:VTIMEZONE
TZID:UTC
BEGIN:STANDARD
TZOFFSETFROM:+0000
TZOFFSETTO:+0000
TZNAME:UTC
DTSTART:20240101T000000
END:STANDARD
END:VTIMEZONE
BEGIN:VEVENT
DTSTART;TZID=UTC:20240907T180000
DTEND;TZID=UTC:20240907T220000
DTSTAMP:20260420T140549
CREATED:20231230T010703Z
LAST-MODIFIED:20240822T232308Z
UID:6430-1725732000-1725746400@childrensafetyvillage.org
SUMMARY:7th Annual Community Heroes Celebration Awards Gala
DESCRIPTION:Gold Sponsor\n\nReception Sponsors\n                                      \n  \n  \nSilver Sponsor\n             \n\nBronze Sponsors\n                                   \n  \n \n  \nEntertainment provided by: \n                \n  \n  \n 
URL:https://childrensafetyvillage.org/event/7th-annual-community-heroes-celebration-gala/
LOCATION:Harry P. Leu Gardens\, 1920 N. Forest Ave.\, Orlando\, FL\, 32803\, United States
END:VEVENT
END:VCALENDAR