BEGIN:VCALENDAR
VERSION:2.0
PRODID:-//Children&#039;s Safety Village - ECPv5.5.0.1//NONSGML v1.0//EN
CALSCALE:GREGORIAN
METHOD:PUBLISH
X-WR-CALNAME:Children&#039;s Safety Village
X-ORIGINAL-URL:https://childrensafetyvillage.org
X-WR-CALDESC:Events for Children&#039;s Safety Village
BEGIN:VTIMEZONE
TZID:UTC
BEGIN:STANDARD
TZOFFSETFROM:+0000
TZOFFSETTO:+0000
TZNAME:UTC
DTSTART:20250101T000000
END:STANDARD
END:VTIMEZONE
BEGIN:VEVENT
DTSTART;TZID=UTC:20250308T100000
DTEND;TZID=UTC:20250308T130000
DTSTAMP:20260420T050357
CREATED:20250113T214117Z
LAST-MODIFIED:20250307T171500Z
UID:6705-1741428000-1741438800@childrensafetyvillage.org
SUMMARY:3rd Annual Touch-a-Truck
DESCRIPTION:All In One Level Sponsor\n                \nSpecialty Vehicle Level Sponsors\n \nHeavy Duty Level Sponsors\n                    \n  \n  \nMedium Duty Level Sponsors\n \n  \nLight Duty Level Sponsors\n                        
URL:https://childrensafetyvillage.org/event/3rd-annual-touch-a-truck/
END:VEVENT
END:VCALENDAR