BEGIN:VCALENDAR
VERSION:2.0
PRODID:-//Children&#039;s Safety Village - ECPv5.5.0.1//NONSGML v1.0//EN
CALSCALE:GREGORIAN
METHOD:PUBLISH
X-WR-CALNAME:Children&#039;s Safety Village
X-ORIGINAL-URL:https://childrensafetyvillage.org
X-WR-CALDESC:Events for Children&#039;s Safety Village
BEGIN:VTIMEZONE
TZID:UTC
BEGIN:STANDARD
TZOFFSETFROM:+0000
TZOFFSETTO:+0000
TZNAME:UTC
DTSTART:20240101T000000
END:STANDARD
END:VTIMEZONE
BEGIN:VEVENT
DTSTART;TZID=UTC:20240427T100000
DTEND;TZID=UTC:20240427T130000
DTSTAMP:20260420T215618
CREATED:20231228T220407Z
LAST-MODIFIED:20240423T215635Z
UID:6420-1714212000-1714222800@childrensafetyvillage.org
SUMMARY:2nd Annual CSV Touch-a-Truck
DESCRIPTION:  \n \n \n \n \n \n  \n \naaa-orbit-logoaaa-orbit-logo \n 
URL:https://childrensafetyvillage.org/event/2nd-annual-csv-touch-a-truck/
LOCATION:910 Fairvilla Rd\, Orlando\, FL 32808\, 910 Fairvilla Rd\, Orlando\, FL\, 32808\, United States
END:VEVENT
END:VCALENDAR