BEGIN:VCALENDAR
VERSION:2.0
PRODID:-//Children&#039;s Safety Village - ECPv5.5.0.1//NONSGML v1.0//EN
CALSCALE:GREGORIAN
METHOD:PUBLISH
X-WR-CALNAME:Children&#039;s Safety Village
X-ORIGINAL-URL:https://childrensafetyvillage.org
X-WR-CALDESC:Events for Children&#039;s Safety Village
BEGIN:VTIMEZONE
TZID:UTC
BEGIN:STANDARD
TZOFFSETFROM:+0000
TZOFFSETTO:+0000
TZNAME:UTC
DTSTART:20230101T000000
END:STANDARD
END:VTIMEZONE
BEGIN:VEVENT
DTSTART;TZID=UTC:20231230T080000
DTEND;TZID=UTC:20231230T170000
DTSTAMP:20260421T051514
CREATED:20231230T013510Z
LAST-MODIFIED:20231230T013510Z
UID:6435-1703923200-1703955600@childrensafetyvillage.org
SUMMARY:13th Annual Trunk-or-Treat
DESCRIPTION:
URL:https://childrensafetyvillage.org/event/13th-annual-trunk-or-treat/
END:VEVENT
END:VCALENDAR