BEGIN:VCALENDAR
VERSION:2.0
PRODID:-//Children&#039;s Safety Village - ECPv5.5.0.1//NONSGML v1.0//EN
CALSCALE:GREGORIAN
METHOD:PUBLISH
X-WR-CALNAME:Children&#039;s Safety Village
X-ORIGINAL-URL:https://childrensafetyvillage.org
X-WR-CALDESC:Events for Children&#039;s Safety Village
BEGIN:VTIMEZONE
TZID:UTC
BEGIN:STANDARD
TZOFFSETFROM:+0000
TZOFFSETTO:+0000
TZNAME:UTC
DTSTART:20240101T000000
END:STANDARD
END:VTIMEZONE
BEGIN:VEVENT
DTSTART;TZID=UTC:20240501T113000
DTEND;TZID=UTC:20240501T123000
DTSTAMP:20260420T215905
CREATED:20231230T005653Z
LAST-MODIFIED:20240109T141233Z
UID:6425-1714563000-1714566600@childrensafetyvillage.org
SUMMARY:12th Annual Water Safety Awareness Media Event
DESCRIPTION:Presented by:\n \n 
URL:https://childrensafetyvillage.org/event/12th-annual-water-safety-awareness-media-event/
LOCATION:910 Fairvilla Rd\, Orlando\, FL 32808\, 910 Fairvilla Rd\, Orlando\, FL\, 32808\, United States
END:VEVENT
END:VCALENDAR