BEGIN:VCALENDAR
VERSION:2.0
PRODID:-//Children&#039;s Safety Village - ECPv5.5.0.1//NONSGML v1.0//EN
CALSCALE:GREGORIAN
METHOD:PUBLISH
X-WR-CALNAME:Children&#039;s Safety Village
X-ORIGINAL-URL:https://childrensafetyvillage.org
X-WR-CALDESC:Events for Children&#039;s Safety Village
BEGIN:VTIMEZONE
TZID:UTC
BEGIN:STANDARD
TZOFFSETFROM:+0000
TZOFFSETTO:+0000
TZNAME:UTC
DTSTART:20230101T000000
END:STANDARD
END:VTIMEZONE
BEGIN:VEVENT
DTSTART;VALUE=DATE:20230807
DTEND;VALUE=DATE:20230808
DTSTAMP:20260421T094637
CREATED:20230211T194020Z
LAST-MODIFIED:20230807T145406Z
UID:6231-1691366400-1691452799@childrensafetyvillage.org
SUMMARY:Child Helmet Safety Check with Trooper Steve  8:00 a.m. - 11:00 a.m.
DESCRIPTION:
URL:https://childrensafetyvillage.org/event/12th-annual-trunk-or-treat/
LOCATION:910 Fairvilla Rd\, Orlando\, FL 32808\, 910 Fairvilla Rd\, Orlando\, FL\, 32808\, United States
END:VEVENT
END:VCALENDAR