BEGIN:VCALENDAR
VERSION:2.0
PRODID:-//Children&#039;s Safety Village - ECPv5.5.0.1//NONSGML v1.0//EN
CALSCALE:GREGORIAN
METHOD:PUBLISH
X-WR-CALNAME:Children&#039;s Safety Village
X-ORIGINAL-URL:https://childrensafetyvillage.org
X-WR-CALDESC:Events for Children&#039;s Safety Village
BEGIN:VTIMEZONE
TZID:UTC
BEGIN:STANDARD
TZOFFSETFROM:+0000
TZOFFSETTO:+0000
TZNAME:UTC
DTSTART:20230101T000000
END:STANDARD
END:VTIMEZONE
BEGIN:VEVENT
DTSTART;TZID=UTC:20230915T070000
DTEND;TZID=UTC:20230915T150000
DTSTAMP:20260421T100030
CREATED:20230207T200518Z
LAST-MODIFIED:20230831T183157Z
UID:6222-1694761200-1694790000@childrensafetyvillage.org
SUMMARY:6th Annual CSV Charity Golf Tournament   8:00 a.m. Shotgun Start
DESCRIPTION:Bronze Sponsor\n \nCo-Lunch Sponsor\n \nBeverage Cart Sponsor\n \n 
URL:https://childrensafetyvillage.org/event/12th-annual-csv-charity-golf-tournament/
LOCATION:Dubsdread Golf Course
END:VEVENT
END:VCALENDAR