BEGIN:VCALENDAR
VERSION:2.0
PRODID:-//Children&#039;s Safety Village - ECPv5.5.0.1//NONSGML v1.0//EN
CALSCALE:GREGORIAN
METHOD:PUBLISH
X-WR-CALNAME:Children&#039;s Safety Village
X-ORIGINAL-URL:https://childrensafetyvillage.org
X-WR-CALDESC:Events for Children&#039;s Safety Village
BEGIN:VTIMEZONE
TZID:UTC
BEGIN:STANDARD
TZOFFSETFROM:+0000
TZOFFSETTO:+0000
TZNAME:UTC
DTSTART:20220101T000000
END:STANDARD
END:VTIMEZONE
BEGIN:VEVENT
DTSTART;TZID=UTC:20220504T113000
DTEND;TZID=UTC:20220504T170000
DTSTAMP:20260422T094608
CREATED:20220214T204450Z
LAST-MODIFIED:20220411T142241Z
UID:6070-1651663800-1651683600@childrensafetyvillage.org
SUMMARY:10th Annual Water Safety Awareness Media Event Presented by Orlando Health Arnold Palmer Hospital
DESCRIPTION:Presented by: \n \n 
URL:https://childrensafetyvillage.org/event/10th-annual-water-safety-awareness/
END:VEVENT
END:VCALENDAR